BEGIN:VCALENDAR
VERSION:2.0
PRODID:ZS-KLADSKA//CZ
BEGIN:VEVENT
UID:69ea18534eba6
DTSTART:20260427T220000Z
SEQUENCE:0
TRANSP:OPAQUE
DTEND:20260427T220000Z
URL:/event/curling-7-a/11954
SUMMARY:Curling\, 7.A
CLASS:PUBLIC
DTSTAMP:20260423T150211Z
END:VEVENT
END:VCALENDAR