BEGIN:VCALENDAR
VERSION:2.0
PRODID:ZS-KLADSKA//CZ
BEGIN:VEVENT
UID:69e5badb7eca9
DTSTART:20260420T220000Z
SEQUENCE:0
TRANSP:OPAQUE
DTEND:20260420T220000Z
URL:/event/polytechnicke-dilny-v-sarajevske/11947
SUMMARY:Polytechnické dílny v Sarajevské
CLASS:PUBLIC
DESCRIPTION:4.B
DTSTAMP:20260420T073419Z
END:VEVENT
END:VCALENDAR