BEGIN:VCALENDAR
VERSION:2.0
PRODID:ZS-KLADSKA//CZ
BEGIN:VEVENT
UID:69e75bf75adf8
DTSTART:20260423T220000Z
SEQUENCE:0
TRANSP:OPAQUE
DTEND:20260423T220000Z
URL:/event/prevence-navsteva-lecebny-bohnice-8-a/11921
SUMMARY:Prevence: návštěva léčebny Bohnice\, 8.A
CLASS:PUBLIC
DTSTAMP:20260421T131359Z
END:VEVENT
END:VCALENDAR