BEGIN:VCALENDAR
VERSION:2.0
PRODID:ZS-KLADSKA//CZ
BEGIN:VEVENT
UID:69e5baa29334b
DTSTART:20260420T220000Z
SEQUENCE:0
TRANSP:OPAQUE
DTEND:20260420T220000Z
URL:/event/prevence-kybersikana-5-a/11920
SUMMARY:Prevence: Kyberšikana\, 5.A
CLASS:PUBLIC
DTSTAMP:20260420T073322Z
END:VEVENT
END:VCALENDAR