BEGIN:VCALENDAR
VERSION:2.0
PRODID:ZS-KLADSKA//CZ
BEGIN:VEVENT
UID:69e5b9d36651e
DTSTART:20260420T220000Z
SEQUENCE:0
TRANSP:OPAQUE
DTEND:20260420T220000Z
URL:/event/prevence-digitalni-wellbeing-3-a/11919
SUMMARY:Prevence: Digitální wellbeing\, 3.A
CLASS:PUBLIC
DTSTAMP:20260420T072955Z
END:VEVENT
END:VCALENDAR